BEGIN:VCALENDAR
VERSION:2.0
PRODID:-//First Lutheran Church - ECPv6.15.17.1//NONSGML v1.0//EN
CALSCALE:GREGORIAN
METHOD:PUBLISH
X-ORIGINAL-URL:https://www.first4u.org
X-WR-CALDESC:Events for First Lutheran Church
REFRESH-INTERVAL;VALUE=DURATION:PT1H
X-Robots-Tag:noindex
X-PUBLISHED-TTL:PT1H
BEGIN:VTIMEZONE
TZID:America/New_York
BEGIN:DAYLIGHT
TZOFFSETFROM:-0500
TZOFFSETTO:-0400
TZNAME:EDT
DTSTART:20210314T070000
END:DAYLIGHT
BEGIN:STANDARD
TZOFFSETFROM:-0400
TZOFFSETTO:-0500
TZNAME:EST
DTSTART:20211107T060000
END:STANDARD
BEGIN:DAYLIGHT
TZOFFSETFROM:-0500
TZOFFSETTO:-0400
TZNAME:EDT
DTSTART:20220313T070000
END:DAYLIGHT
BEGIN:STANDARD
TZOFFSETFROM:-0400
TZOFFSETTO:-0500
TZNAME:EST
DTSTART:20221106T060000
END:STANDARD
BEGIN:DAYLIGHT
TZOFFSETFROM:-0500
TZOFFSETTO:-0400
TZNAME:EDT
DTSTART:20230312T070000
END:DAYLIGHT
BEGIN:STANDARD
TZOFFSETFROM:-0400
TZOFFSETTO:-0500
TZNAME:EST
DTSTART:20231105T060000
END:STANDARD
END:VTIMEZONE
BEGIN:VEVENT
DTSTART;TZID=America/New_York:20221009T130000
DTEND;TZID=America/New_York:20221009T180000
DTSTAMP:20260421T180843
CREATED:20221004T134253Z
LAST-MODIFIED:20221004T134253Z
UID:10005694-1665320400-1665338400@www.first4u.org
SUMMARY:Oktoberfest
DESCRIPTION:Fifth Annual Oktoberfest at FLC Camp.  Food\, Vespers\, Pumpkin Painting\, Games\, Big Foot Race\, Good Food – Great Times.  Wear your best Oktoberfest Attire!
URL:https://www.first4u.org/event/oktoberfest/
LOCATION:Church Camp\, 1621 Lee Pike\, Soddy Daisy\, TN\, 37379
ORGANIZER;CN="Robby Tyson":MAILTO:robbytyson@aol.com
END:VEVENT
BEGIN:VEVENT
DTSTART;TZID=America/New_York:20221020T180000
DTEND;TZID=America/New_York:20221020T200000
DTSTAMP:20260421T180843
CREATED:20221004T140033Z
LAST-MODIFIED:20221004T140033Z
UID:10005705-1666288800-1666296000@www.first4u.org
SUMMARY:Ladies Fellowship
DESCRIPTION:Ladies Only Fellowship to meet for devotion and fellowship at Smokey Bones on Gunbarrel.
URL:https://www.first4u.org/event/ladies-fellowship/
END:VEVENT
BEGIN:VEVENT
DTSTART;TZID=America/New_York:20221020T183000
DTEND;TZID=America/New_York:20221020T203000
DTSTAMP:20260421T180843
CREATED:20221004T140928Z
LAST-MODIFIED:20221004T140928Z
UID:10005706-1666290600-1666297800@www.first4u.org
SUMMARY:Men's Fellowship
DESCRIPTION:Gentlemen will meet at Rib & Loin for a devotion by Robert Campbell then fellowship & good food.  Join us and bring a friend. \n 
URL:https://www.first4u.org/event/mens-fellowship-6/2022-10-20/
LOCATION:Rib & Loin\, 5946 Brainerd Rd\, Chattanooga\, TN\, United States
END:VEVENT
BEGIN:VEVENT
DTSTART;TZID=America/New_York:20221030T093000
DTEND;TZID=America/New_York:20221030T103000
DTSTAMP:20260421T180843
CREATED:20210429T145715Z
LAST-MODIFIED:20221110T193324Z
UID:10006766-1667122200-1667125800@www.first4u.org
SUMMARY:Matins 9:30am Service
DESCRIPTION:9:30 AM – Matins Service \n5th Sunday – we will celebrate with ONE Service! In an effort to fellowship Together\, we will have only one service at 9:30am.  Followed by Sunday School Class at 10:30am.
URL:https://www.first4u.org/event/sunday-service-830/2022-10-30/
LOCATION:First Lutheran Church\, 2800 McCallie Avenue\, Chattanooga\, TN\, 37404\, United States
END:VEVENT
END:VCALENDAR