BEGIN:VCALENDAR
VERSION:2.0
PRODID:-//First Lutheran Church - ECPv6.15.20//NONSGML v1.0//EN
CALSCALE:GREGORIAN
METHOD:PUBLISH
X-WR-CALNAME:First Lutheran Church
X-ORIGINAL-URL:https://www.first4u.org
X-WR-CALDESC:Events for First Lutheran Church
REFRESH-INTERVAL;VALUE=DURATION:PT1H
X-Robots-Tag:noindex
X-PUBLISHED-TTL:PT1H
BEGIN:VTIMEZONE
TZID:America/New_York
BEGIN:DAYLIGHT
TZOFFSETFROM:-0500
TZOFFSETTO:-0400
TZNAME:EDT
DTSTART:20270314T070000
END:DAYLIGHT
BEGIN:STANDARD
TZOFFSETFROM:-0400
TZOFFSETTO:-0500
TZNAME:EST
DTSTART:20271107T060000
END:STANDARD
BEGIN:DAYLIGHT
TZOFFSETFROM:-0500
TZOFFSETTO:-0400
TZNAME:EDT
DTSTART:20280312T070000
END:DAYLIGHT
BEGIN:STANDARD
TZOFFSETFROM:-0400
TZOFFSETTO:-0500
TZNAME:EST
DTSTART:20281105T060000
END:STANDARD
BEGIN:DAYLIGHT
TZOFFSETFROM:-0500
TZOFFSETTO:-0400
TZNAME:EDT
DTSTART:20290311T070000
END:DAYLIGHT
BEGIN:STANDARD
TZOFFSETFROM:-0400
TZOFFSETTO:-0500
TZNAME:EST
DTSTART:20291104T060000
END:STANDARD
END:VTIMEZONE
BEGIN:VEVENT
DTSTART;TZID=America/New_York:20280523T090000
DTEND;TZID=America/New_York:20280523T140000
DTSTAMP:20260425T204045
CREATED:20260112T150422Z
LAST-MODIFIED:20260112T150422Z
UID:10012975-1842685200-1842703200@www.first4u.org
SUMMARY:Food Pantry
DESCRIPTION:
URL:https://www.first4u.org/event/food-pantry/2028-05-23/
END:VEVENT
BEGIN:VEVENT
DTSTART;TZID=America/New_York:20280523T133000
DTEND;TZID=America/New_York:20280523T143000
DTSTAMP:20260425T204045
CREATED:20251125T183612Z
LAST-MODIFIED:20251125T183613Z
UID:10012473-1842701400-1842705000@www.first4u.org
SUMMARY:Bible Study with Pastor Pingel
DESCRIPTION:
URL:https://www.first4u.org/event/bible-study-with-pastor-welmer-2-2-2/2028-05-23/
END:VEVENT
BEGIN:VEVENT
DTSTART;TZID=America/New_York:20280528T083000
DTEND;TZID=America/New_York:20280528T213000
DTSTAMP:20260425T204045
CREATED:20240814T151833Z
LAST-MODIFIED:20240821T133503Z
UID:10010311-1843115400-1843162200@www.first4u.org
SUMMARY:8:30 Divine Service
DESCRIPTION:
URL:https://www.first4u.org/event/divine-service-4/2028-05-28/
END:VEVENT
BEGIN:VEVENT
DTSTART;TZID=America/New_York:20280528T094500
DTEND;TZID=America/New_York:20280528T104500
DTSTAMP:20260425T204045
CREATED:20260223T153650Z
LAST-MODIFIED:20260420T140411Z
UID:10013632-1843119900-1843123500@www.first4u.org
SUMMARY:Sunday School
DESCRIPTION:
URL:https://www.first4u.org/event/sunday-school-2/2028-05-28/
END:VEVENT
BEGIN:VEVENT
DTSTART;TZID=America/New_York:20280528T110000
DTEND;TZID=America/New_York:20280528T120000
DTSTAMP:20260425T204045
CREATED:20240814T151918Z
LAST-MODIFIED:20240821T132948Z
UID:10010570-1843124400-1843128000@www.first4u.org
SUMMARY:11:00 Divine Service
DESCRIPTION:
URL:https://www.first4u.org/event/divine-service-5/2028-05-28/
END:VEVENT
BEGIN:VEVENT
DTSTART;TZID=America/New_York:20280530T090000
DTEND;TZID=America/New_York:20280530T140000
DTSTAMP:20260425T204045
CREATED:20260112T150422Z
LAST-MODIFIED:20260112T150422Z
UID:10012976-1843290000-1843308000@www.first4u.org
SUMMARY:Food Pantry
DESCRIPTION:
URL:https://www.first4u.org/event/food-pantry/2028-05-30/
END:VEVENT
BEGIN:VEVENT
DTSTART;TZID=America/New_York:20280530T133000
DTEND;TZID=America/New_York:20280530T143000
DTSTAMP:20260425T204045
CREATED:20251125T183612Z
LAST-MODIFIED:20251125T183613Z
UID:10012474-1843306200-1843309800@www.first4u.org
SUMMARY:Bible Study with Pastor Pingel
DESCRIPTION:
URL:https://www.first4u.org/event/bible-study-with-pastor-welmer-2-2-2/2028-05-30/
END:VEVENT
BEGIN:VEVENT
DTSTART;TZID=America/New_York:20280604T083000
DTEND;TZID=America/New_York:20280604T213000
DTSTAMP:20260425T204045
CREATED:20240814T151833Z
LAST-MODIFIED:20240821T133503Z
UID:10010312-1843720200-1843767000@www.first4u.org
SUMMARY:8:30 Divine Service
DESCRIPTION:
URL:https://www.first4u.org/event/divine-service-4/2028-06-04/
END:VEVENT
BEGIN:VEVENT
DTSTART;TZID=America/New_York:20280604T094500
DTEND;TZID=America/New_York:20280604T104500
DTSTAMP:20260425T204045
CREATED:20260223T153650Z
LAST-MODIFIED:20260420T140411Z
UID:10013633-1843724700-1843728300@www.first4u.org
SUMMARY:Sunday School
DESCRIPTION:
URL:https://www.first4u.org/event/sunday-school-2/2028-06-04/
END:VEVENT
BEGIN:VEVENT
DTSTART;TZID=America/New_York:20280604T110000
DTEND;TZID=America/New_York:20280604T120000
DTSTAMP:20260425T204045
CREATED:20240814T151918Z
LAST-MODIFIED:20240821T132948Z
UID:10010571-1843729200-1843732800@www.first4u.org
SUMMARY:11:00 Divine Service
DESCRIPTION:
URL:https://www.first4u.org/event/divine-service-5/2028-06-04/
END:VEVENT
BEGIN:VEVENT
DTSTART;TZID=America/New_York:20280606T090000
DTEND;TZID=America/New_York:20280606T140000
DTSTAMP:20260425T204045
CREATED:20260112T150422Z
LAST-MODIFIED:20260112T150422Z
UID:10012977-1843894800-1843912800@www.first4u.org
SUMMARY:Food Pantry
DESCRIPTION:
URL:https://www.first4u.org/event/food-pantry/2028-06-06/
END:VEVENT
BEGIN:VEVENT
DTSTART;TZID=America/New_York:20280606T133000
DTEND;TZID=America/New_York:20280606T143000
DTSTAMP:20260425T204045
CREATED:20251125T183612Z
LAST-MODIFIED:20251125T183613Z
UID:10012475-1843911000-1843914600@www.first4u.org
SUMMARY:Bible Study with Pastor Pingel
DESCRIPTION:
URL:https://www.first4u.org/event/bible-study-with-pastor-welmer-2-2-2/2028-06-06/
END:VEVENT
BEGIN:VEVENT
DTSTART;TZID=America/New_York:20280608T100000
DTEND;TZID=America/New_York:20280608T120000
DTSTAMP:20260425T204045
CREATED:20240725T173220Z
LAST-MODIFIED:20240725T173220Z
UID:10009777-1844071200-1844078400@www.first4u.org
SUMMARY:LWML Meeting
DESCRIPTION:
URL:https://www.first4u.org/event/lwml-meeting-2/2028-06-08/
END:VEVENT
BEGIN:VEVENT
DTSTART;TZID=America/New_York:20280608T183000
DTEND;TZID=America/New_York:20280608T200000
DTSTAMP:20260425T204045
CREATED:20250107T151703Z
LAST-MODIFIED:20250107T151705Z
UID:10011768-1844101800-1844107200@www.first4u.org
SUMMARY:Church Council Meeting
DESCRIPTION:
URL:https://www.first4u.org/event/church-council-meeting-4-2/2028-06-08/
END:VEVENT
BEGIN:VEVENT
DTSTART;TZID=America/New_York:20280611T083000
DTEND;TZID=America/New_York:20280611T213000
DTSTAMP:20260425T204045
CREATED:20240814T151833Z
LAST-MODIFIED:20240821T133503Z
UID:10010313-1844325000-1844371800@www.first4u.org
SUMMARY:8:30 Divine Service
DESCRIPTION:
URL:https://www.first4u.org/event/divine-service-4/2028-06-11/
END:VEVENT
BEGIN:VEVENT
DTSTART;TZID=America/New_York:20280611T094500
DTEND;TZID=America/New_York:20280611T104500
DTSTAMP:20260425T204045
CREATED:20260223T153650Z
LAST-MODIFIED:20260420T140411Z
UID:10013634-1844329500-1844333100@www.first4u.org
SUMMARY:Sunday School
DESCRIPTION:
URL:https://www.first4u.org/event/sunday-school-2/2028-06-11/
END:VEVENT
BEGIN:VEVENT
DTSTART;TZID=America/New_York:20280611T110000
DTEND;TZID=America/New_York:20280611T120000
DTSTAMP:20260425T204045
CREATED:20240814T151918Z
LAST-MODIFIED:20240821T132948Z
UID:10010572-1844334000-1844337600@www.first4u.org
SUMMARY:11:00 Divine Service
DESCRIPTION:
URL:https://www.first4u.org/event/divine-service-5/2028-06-11/
END:VEVENT
BEGIN:VEVENT
DTSTART;TZID=America/New_York:20280612T180000
DTEND;TZID=America/New_York:20280612T190000
DTSTAMP:20260425T204045
CREATED:20250107T145904Z
LAST-MODIFIED:20250107T151841Z
UID:10011828-1844445600-1844449200@www.first4u.org
SUMMARY:BCA Board Meeting
DESCRIPTION:
URL:https://www.first4u.org/event/bca-board-meeting-7/2028-06-12/
END:VEVENT
BEGIN:VEVENT
DTSTART;TZID=America/New_York:20280613T090000
DTEND;TZID=America/New_York:20280613T140000
DTSTAMP:20260425T204045
CREATED:20260112T150422Z
LAST-MODIFIED:20260112T150422Z
UID:10012978-1844499600-1844517600@www.first4u.org
SUMMARY:Food Pantry
DESCRIPTION:
URL:https://www.first4u.org/event/food-pantry/2028-06-13/
END:VEVENT
BEGIN:VEVENT
DTSTART;TZID=America/New_York:20280613T120000
DTEND;TZID=America/New_York:20280613T130000
DTSTAMP:20260425T204045
CREATED:20260219T153432Z
LAST-MODIFIED:20260219T153432Z
UID:10013156-1844510400-1844514000@www.first4u.org
SUMMARY:Evangelism Meeting
DESCRIPTION:At Armando’s Restaurant\, North Lee Hwy
URL:https://www.first4u.org/event/evangelism-meeting-10-2/2028-06-13/
END:VEVENT
BEGIN:VEVENT
DTSTART;TZID=America/New_York:20280613T133000
DTEND;TZID=America/New_York:20280613T143000
DTSTAMP:20260425T204045
CREATED:20251125T183612Z
LAST-MODIFIED:20251125T183613Z
UID:10012476-1844515800-1844519400@www.first4u.org
SUMMARY:Bible Study with Pastor Pingel
DESCRIPTION:
URL:https://www.first4u.org/event/bible-study-with-pastor-welmer-2-2-2/2028-06-13/
END:VEVENT
BEGIN:VEVENT
DTSTART;TZID=America/New_York:20280613T180000
DTEND;TZID=America/New_York:20280613T190000
DTSTAMP:20260425T204045
CREATED:20240725T173729Z
LAST-MODIFIED:20250107T150258Z
UID:10009838-1844532000-1844535600@www.first4u.org
SUMMARY:Elders Meeting
DESCRIPTION:
URL:https://www.first4u.org/event/elders-meeting-11/2028-06-13/
END:VEVENT
BEGIN:VEVENT
DTSTART;TZID=America/New_York:20280613T180000
DTEND;TZID=America/New_York:20280613T190000
DTSTAMP:20260425T204045
CREATED:20240814T153249Z
LAST-MODIFIED:20250107T152003Z
UID:10011892-1844532000-1844535600@www.first4u.org
SUMMARY:Social Ministry Meeting
DESCRIPTION:
URL:https://www.first4u.org/event/social-ministry-meeting-2/2028-06-13/
END:VEVENT
BEGIN:VEVENT
DTSTART;TZID=America/New_York:20280613T180000
DTEND;TZID=America/New_York:20280613T190000
DTSTAMP:20260425T204045
CREATED:20251125T200016Z
LAST-MODIFIED:20251125T200018Z
UID:10012637-1844532000-1844535600@www.first4u.org
SUMMARY:Parish Fellowship Meeting
DESCRIPTION:
URL:https://www.first4u.org/event/parish-fellowship-meeting-2/2028-06-13/
END:VEVENT
BEGIN:VEVENT
DTSTART;TZID=America/New_York:20280613T193000
DTEND;TZID=America/New_York:20280613T203000
DTSTAMP:20260425T204045
CREATED:20250107T152314Z
LAST-MODIFIED:20250107T152314Z
UID:10011952-1844537400-1844541000@www.first4u.org
SUMMARY:Christian Ed Meeting via Zoom
DESCRIPTION:
URL:https://www.first4u.org/event/christian-ed-meeting-via-zoom/2028-06-13/
END:VEVENT
BEGIN:VEVENT
DTSTART;TZID=America/New_York:20280615T180000
DTEND;TZID=America/New_York:20280615T193000
DTSTAMP:20260425T204045
CREATED:20240926T173403Z
LAST-MODIFIED:20240926T173404Z
UID:10009584-1844704800-1844710200@www.first4u.org
SUMMARY:Ladies' Fellowship
DESCRIPTION:Check the weekly email\, the bulletin insert\, or call the office for location this month.
URL:https://www.first4u.org/event/ladies-fellowship-at-portofinos-east-ridge-2/2028-06-15/
END:VEVENT
BEGIN:VEVENT
DTSTART;TZID=America/New_York:20280615T183000
DTEND;TZID=America/New_York:20280615T200000
DTSTAMP:20260425T204045
CREATED:20240619T183610Z
LAST-MODIFIED:20240619T183610Z
UID:10009644-1844706600-1844712000@www.first4u.org
SUMMARY:Men's Fellowship at Rib & Loin on Brainerd Rd.
DESCRIPTION:
URL:https://www.first4u.org/event/mens-fellowship-at-rib-loin-on-brainerd-rd/2028-06-15/
END:VEVENT
BEGIN:VEVENT
DTSTART;TZID=America/New_York:20280618T083000
DTEND;TZID=America/New_York:20280618T213000
DTSTAMP:20260425T204045
CREATED:20240814T151833Z
LAST-MODIFIED:20240821T133503Z
UID:10010314-1844929800-1844976600@www.first4u.org
SUMMARY:8:30 Divine Service
DESCRIPTION:
URL:https://www.first4u.org/event/divine-service-4/2028-06-18/
END:VEVENT
BEGIN:VEVENT
DTSTART;TZID=America/New_York:20280618T094500
DTEND;TZID=America/New_York:20280618T104500
DTSTAMP:20260425T204045
CREATED:20260223T153650Z
LAST-MODIFIED:20260420T140411Z
UID:10013635-1844934300-1844937900@www.first4u.org
SUMMARY:Sunday School
DESCRIPTION:
URL:https://www.first4u.org/event/sunday-school-2/2028-06-18/
END:VEVENT
BEGIN:VEVENT
DTSTART;TZID=America/New_York:20280618T110000
DTEND;TZID=America/New_York:20280618T120000
DTSTAMP:20260425T204045
CREATED:20240814T151918Z
LAST-MODIFIED:20240821T132948Z
UID:10010573-1844938800-1844942400@www.first4u.org
SUMMARY:11:00 Divine Service
DESCRIPTION:
URL:https://www.first4u.org/event/divine-service-5/2028-06-18/
END:VEVENT
END:VCALENDAR