BEGIN:VCALENDAR
VERSION:2.0
PRODID:-//First Lutheran Church - ECPv6.15.17.1//NONSGML v1.0//EN
CALSCALE:GREGORIAN
METHOD:PUBLISH
X-WR-CALNAME:First Lutheran Church
X-ORIGINAL-URL:https://www.first4u.org
X-WR-CALDESC:Events for First Lutheran Church
REFRESH-INTERVAL;VALUE=DURATION:PT1H
X-Robots-Tag:noindex
X-PUBLISHED-TTL:PT1H
BEGIN:VTIMEZONE
TZID:America/New_York
BEGIN:DAYLIGHT
TZOFFSETFROM:-0500
TZOFFSETTO:-0400
TZNAME:EDT
DTSTART:20270314T070000
END:DAYLIGHT
BEGIN:STANDARD
TZOFFSETFROM:-0400
TZOFFSETTO:-0500
TZNAME:EST
DTSTART:20271107T060000
END:STANDARD
BEGIN:DAYLIGHT
TZOFFSETFROM:-0500
TZOFFSETTO:-0400
TZNAME:EDT
DTSTART:20280312T070000
END:DAYLIGHT
BEGIN:STANDARD
TZOFFSETFROM:-0400
TZOFFSETTO:-0500
TZNAME:EST
DTSTART:20281105T060000
END:STANDARD
BEGIN:DAYLIGHT
TZOFFSETFROM:-0500
TZOFFSETTO:-0400
TZNAME:EDT
DTSTART:20290311T070000
END:DAYLIGHT
BEGIN:STANDARD
TZOFFSETFROM:-0400
TZOFFSETTO:-0500
TZNAME:EST
DTSTART:20291104T060000
END:STANDARD
END:VTIMEZONE
BEGIN:VEVENT
DTSTART;TZID=America/New_York:20280312T083000
DTEND;TZID=America/New_York:20280312T213000
DTSTAMP:20260419T171451
CREATED:20240814T151833Z
LAST-MODIFIED:20240821T133503Z
UID:10010300-1836462600-1836509400@www.first4u.org
SUMMARY:8:30 Divine Service
DESCRIPTION:
URL:https://www.first4u.org/event/divine-service-4/2028-03-12/
END:VEVENT
BEGIN:VEVENT
DTSTART;TZID=America/New_York:20280312T100000
DTEND;TZID=America/New_York:20280312T104500
DTSTAMP:20260419T171451
CREATED:20260223T153650Z
LAST-MODIFIED:20260223T153650Z
UID:10013295-1836468000-1836470700@www.first4u.org
SUMMARY:Sunday School
DESCRIPTION:
URL:https://www.first4u.org/event/sunday-school-2/2028-03-12/
END:VEVENT
BEGIN:VEVENT
DTSTART;TZID=America/New_York:20280312T110000
DTEND;TZID=America/New_York:20280312T120000
DTSTAMP:20260419T171451
CREATED:20240814T151918Z
LAST-MODIFIED:20240821T132948Z
UID:10010559-1836471600-1836475200@www.first4u.org
SUMMARY:11:00 Divine Service
DESCRIPTION:
URL:https://www.first4u.org/event/divine-service-5/2028-03-12/
END:VEVENT
BEGIN:VEVENT
DTSTART;TZID=America/New_York:20280313T180000
DTEND;TZID=America/New_York:20280313T190000
DTSTAMP:20260419T171451
CREATED:20250107T145904Z
LAST-MODIFIED:20250107T151841Z
UID:10011825-1836583200-1836586800@www.first4u.org
SUMMARY:BCA Board Meeting
DESCRIPTION:
URL:https://www.first4u.org/event/bca-board-meeting-7/2028-03-13/
END:VEVENT
BEGIN:VEVENT
DTSTART;TZID=America/New_York:20280314T090000
DTEND;TZID=America/New_York:20280314T140000
DTSTAMP:20260419T171451
CREATED:20260112T150422Z
LAST-MODIFIED:20260112T150422Z
UID:10012965-1836637200-1836655200@www.first4u.org
SUMMARY:Food Pantry
DESCRIPTION:
URL:https://www.first4u.org/event/food-pantry/2028-03-14/
END:VEVENT
BEGIN:VEVENT
DTSTART;TZID=America/New_York:20280314T120000
DTEND;TZID=America/New_York:20280314T130000
DTSTAMP:20260419T171451
CREATED:20260219T153432Z
LAST-MODIFIED:20260219T153432Z
UID:10013153-1836648000-1836651600@www.first4u.org
SUMMARY:Evangelism Meeting
DESCRIPTION:At Armando’s Restaurant\, North Lee Hwy
URL:https://www.first4u.org/event/evangelism-meeting-10-2/2028-03-14/
END:VEVENT
BEGIN:VEVENT
DTSTART;TZID=America/New_York:20280314T133000
DTEND;TZID=America/New_York:20280314T143000
DTSTAMP:20260419T171451
CREATED:20251125T183612Z
LAST-MODIFIED:20251125T183613Z
UID:10012463-1836653400-1836657000@www.first4u.org
SUMMARY:Bible Study with Pastor Pingel
DESCRIPTION:
URL:https://www.first4u.org/event/bible-study-with-pastor-welmer-2-2-2/2028-03-14/
END:VEVENT
BEGIN:VEVENT
DTSTART;TZID=America/New_York:20280314T180000
DTEND;TZID=America/New_York:20280314T190000
DTSTAMP:20260419T171451
CREATED:20240725T173729Z
LAST-MODIFIED:20250107T150258Z
UID:10009835-1836669600-1836673200@www.first4u.org
SUMMARY:Elders Meeting
DESCRIPTION:
URL:https://www.first4u.org/event/elders-meeting-11/2028-03-14/
END:VEVENT
BEGIN:VEVENT
DTSTART;TZID=America/New_York:20280314T180000
DTEND;TZID=America/New_York:20280314T190000
DTSTAMP:20260419T171451
CREATED:20240814T153249Z
LAST-MODIFIED:20250107T152003Z
UID:10011889-1836669600-1836673200@www.first4u.org
SUMMARY:Social Ministry Meeting
DESCRIPTION:
URL:https://www.first4u.org/event/social-ministry-meeting-2/2028-03-14/
END:VEVENT
BEGIN:VEVENT
DTSTART;TZID=America/New_York:20280314T180000
DTEND;TZID=America/New_York:20280314T190000
DTSTAMP:20260419T171451
CREATED:20251125T200016Z
LAST-MODIFIED:20251125T200018Z
UID:10012634-1836669600-1836673200@www.first4u.org
SUMMARY:Parish Fellowship Meeting
DESCRIPTION:
URL:https://www.first4u.org/event/parish-fellowship-meeting-2/2028-03-14/
END:VEVENT
BEGIN:VEVENT
DTSTART;TZID=America/New_York:20280314T193000
DTEND;TZID=America/New_York:20280314T203000
DTSTAMP:20260419T171451
CREATED:20250107T152314Z
LAST-MODIFIED:20250107T152314Z
UID:10011949-1836675000-1836678600@www.first4u.org
SUMMARY:Christian Ed Meeting via Zoom
DESCRIPTION:
URL:https://www.first4u.org/event/christian-ed-meeting-via-zoom/2028-03-14/
END:VEVENT
BEGIN:VEVENT
DTSTART;TZID=America/New_York:20280316T180000
DTEND;TZID=America/New_York:20280316T193000
DTSTAMP:20260419T171451
CREATED:20240926T173403Z
LAST-MODIFIED:20240926T173404Z
UID:10009581-1836842400-1836847800@www.first4u.org
SUMMARY:Ladies' Fellowship
DESCRIPTION:Check the weekly email\, the bulletin insert\, or call the office for location this month.
URL:https://www.first4u.org/event/ladies-fellowship-at-portofinos-east-ridge-2/2028-03-16/
END:VEVENT
BEGIN:VEVENT
DTSTART;TZID=America/New_York:20280316T183000
DTEND;TZID=America/New_York:20280316T200000
DTSTAMP:20260419T171451
CREATED:20240619T183610Z
LAST-MODIFIED:20240619T183610Z
UID:10009641-1836844200-1836849600@www.first4u.org
SUMMARY:Men's Fellowship at Rib & Loin on Brainerd Rd.
DESCRIPTION:
URL:https://www.first4u.org/event/mens-fellowship-at-rib-loin-on-brainerd-rd/2028-03-16/
END:VEVENT
BEGIN:VEVENT
DTSTART;TZID=America/New_York:20280319T083000
DTEND;TZID=America/New_York:20280319T213000
DTSTAMP:20260419T171451
CREATED:20240814T151833Z
LAST-MODIFIED:20240821T133503Z
UID:10010301-1837067400-1837114200@www.first4u.org
SUMMARY:8:30 Divine Service
DESCRIPTION:
URL:https://www.first4u.org/event/divine-service-4/2028-03-19/
END:VEVENT
BEGIN:VEVENT
DTSTART;TZID=America/New_York:20280319T100000
DTEND;TZID=America/New_York:20280319T104500
DTSTAMP:20260419T171451
CREATED:20260223T153650Z
LAST-MODIFIED:20260223T153650Z
UID:10013296-1837072800-1837075500@www.first4u.org
SUMMARY:Sunday School
DESCRIPTION:
URL:https://www.first4u.org/event/sunday-school-2/2028-03-19/
END:VEVENT
BEGIN:VEVENT
DTSTART;TZID=America/New_York:20280319T110000
DTEND;TZID=America/New_York:20280319T120000
DTSTAMP:20260419T171451
CREATED:20240814T151918Z
LAST-MODIFIED:20240821T132948Z
UID:10010560-1837076400-1837080000@www.first4u.org
SUMMARY:11:00 Divine Service
DESCRIPTION:
URL:https://www.first4u.org/event/divine-service-5/2028-03-19/
END:VEVENT
BEGIN:VEVENT
DTSTART;TZID=America/New_York:20280321T090000
DTEND;TZID=America/New_York:20280321T140000
DTSTAMP:20260419T171451
CREATED:20260112T150422Z
LAST-MODIFIED:20260112T150422Z
UID:10012966-1837242000-1837260000@www.first4u.org
SUMMARY:Food Pantry
DESCRIPTION:
URL:https://www.first4u.org/event/food-pantry/2028-03-21/
END:VEVENT
BEGIN:VEVENT
DTSTART;TZID=America/New_York:20280321T100000
DTEND;TZID=America/New_York:20280321T140000
DTSTAMP:20260419T171451
CREATED:20250107T145740Z
LAST-MODIFIED:20250107T145752Z
UID:10011477-1837245600-1837260000@www.first4u.org
SUMMARY:Quilters
DESCRIPTION:
URL:https://www.first4u.org/event/quilters-8-2/2028-03-21/
END:VEVENT
BEGIN:VEVENT
DTSTART;TZID=America/New_York:20280321T133000
DTEND;TZID=America/New_York:20280321T143000
DTSTAMP:20260419T171451
CREATED:20251125T183612Z
LAST-MODIFIED:20251125T183613Z
UID:10012464-1837258200-1837261800@www.first4u.org
SUMMARY:Bible Study with Pastor Pingel
DESCRIPTION:
URL:https://www.first4u.org/event/bible-study-with-pastor-welmer-2-2-2/2028-03-21/
END:VEVENT
BEGIN:VEVENT
DTSTART;TZID=America/New_York:20280326T083000
DTEND;TZID=America/New_York:20280326T213000
DTSTAMP:20260419T171451
CREATED:20240814T151833Z
LAST-MODIFIED:20240821T133503Z
UID:10010302-1837672200-1837719000@www.first4u.org
SUMMARY:8:30 Divine Service
DESCRIPTION:
URL:https://www.first4u.org/event/divine-service-4/2028-03-26/
END:VEVENT
BEGIN:VEVENT
DTSTART;TZID=America/New_York:20280326T100000
DTEND;TZID=America/New_York:20280326T104500
DTSTAMP:20260419T171451
CREATED:20260223T153650Z
LAST-MODIFIED:20260223T153650Z
UID:10013297-1837677600-1837680300@www.first4u.org
SUMMARY:Sunday School
DESCRIPTION:
URL:https://www.first4u.org/event/sunday-school-2/2028-03-26/
END:VEVENT
BEGIN:VEVENT
DTSTART;TZID=America/New_York:20280326T110000
DTEND;TZID=America/New_York:20280326T120000
DTSTAMP:20260419T171451
CREATED:20240814T151918Z
LAST-MODIFIED:20240821T132948Z
UID:10010561-1837681200-1837684800@www.first4u.org
SUMMARY:11:00 Divine Service
DESCRIPTION:
URL:https://www.first4u.org/event/divine-service-5/2028-03-26/
END:VEVENT
BEGIN:VEVENT
DTSTART;TZID=America/New_York:20280328T090000
DTEND;TZID=America/New_York:20280328T140000
DTSTAMP:20260419T171451
CREATED:20260112T150422Z
LAST-MODIFIED:20260112T150422Z
UID:10012967-1837846800-1837864800@www.first4u.org
SUMMARY:Food Pantry
DESCRIPTION:
URL:https://www.first4u.org/event/food-pantry/2028-03-28/
END:VEVENT
BEGIN:VEVENT
DTSTART;TZID=America/New_York:20280328T133000
DTEND;TZID=America/New_York:20280328T143000
DTSTAMP:20260419T171451
CREATED:20251125T183612Z
LAST-MODIFIED:20251125T183613Z
UID:10012465-1837863000-1837866600@www.first4u.org
SUMMARY:Bible Study with Pastor Pingel
DESCRIPTION:
URL:https://www.first4u.org/event/bible-study-with-pastor-welmer-2-2-2/2028-03-28/
END:VEVENT
BEGIN:VEVENT
DTSTART;TZID=America/New_York:20280402T083000
DTEND;TZID=America/New_York:20280402T213000
DTSTAMP:20260419T171451
CREATED:20240814T151833Z
LAST-MODIFIED:20240821T133503Z
UID:10010303-1838277000-1838323800@www.first4u.org
SUMMARY:8:30 Divine Service
DESCRIPTION:
URL:https://www.first4u.org/event/divine-service-4/2028-04-02/
END:VEVENT
BEGIN:VEVENT
DTSTART;TZID=America/New_York:20280402T100000
DTEND;TZID=America/New_York:20280402T104500
DTSTAMP:20260419T171451
CREATED:20260223T153650Z
LAST-MODIFIED:20260223T153650Z
UID:10013298-1838282400-1838285100@www.first4u.org
SUMMARY:Sunday School
DESCRIPTION:
URL:https://www.first4u.org/event/sunday-school-2/2028-04-02/
END:VEVENT
BEGIN:VEVENT
DTSTART;TZID=America/New_York:20280402T110000
DTEND;TZID=America/New_York:20280402T120000
DTSTAMP:20260419T171451
CREATED:20240814T151918Z
LAST-MODIFIED:20240821T132948Z
UID:10010562-1838286000-1838289600@www.first4u.org
SUMMARY:11:00 Divine Service
DESCRIPTION:
URL:https://www.first4u.org/event/divine-service-5/2028-04-02/
END:VEVENT
BEGIN:VEVENT
DTSTART;TZID=America/New_York:20280404T090000
DTEND;TZID=America/New_York:20280404T140000
DTSTAMP:20260419T171451
CREATED:20260112T150422Z
LAST-MODIFIED:20260112T150422Z
UID:10012968-1838451600-1838469600@www.first4u.org
SUMMARY:Food Pantry
DESCRIPTION:
URL:https://www.first4u.org/event/food-pantry/2028-04-04/
END:VEVENT
BEGIN:VEVENT
DTSTART;TZID=America/New_York:20280404T133000
DTEND;TZID=America/New_York:20280404T143000
DTSTAMP:20260419T171451
CREATED:20251125T183612Z
LAST-MODIFIED:20251125T183613Z
UID:10012466-1838467800-1838471400@www.first4u.org
SUMMARY:Bible Study with Pastor Pingel
DESCRIPTION:
URL:https://www.first4u.org/event/bible-study-with-pastor-welmer-2-2-2/2028-04-04/
END:VEVENT
BEGIN:VEVENT
DTSTART;TZID=America/New_York:20280409T083000
DTEND;TZID=America/New_York:20280409T213000
DTSTAMP:20260419T171451
CREATED:20240814T151833Z
LAST-MODIFIED:20240821T133503Z
UID:10010304-1838881800-1838928600@www.first4u.org
SUMMARY:8:30 Divine Service
DESCRIPTION:
URL:https://www.first4u.org/event/divine-service-4/2028-04-09/
END:VEVENT
END:VCALENDAR