BEGIN:VCALENDAR
VERSION:2.0
PRODID:-//First Lutheran Church - ECPv6.15.20//NONSGML v1.0//EN
CALSCALE:GREGORIAN
METHOD:PUBLISH
X-ORIGINAL-URL:https://www.first4u.org
X-WR-CALDESC:Events for First Lutheran Church
REFRESH-INTERVAL;VALUE=DURATION:PT1H
X-Robots-Tag:noindex
X-PUBLISHED-TTL:PT1H
BEGIN:VTIMEZONE
TZID:America/New_York
BEGIN:DAYLIGHT
TZOFFSETFROM:-0500
TZOFFSETTO:-0400
TZNAME:EDT
DTSTART:20240310T070000
END:DAYLIGHT
BEGIN:STANDARD
TZOFFSETFROM:-0400
TZOFFSETTO:-0500
TZNAME:EST
DTSTART:20241103T060000
END:STANDARD
BEGIN:DAYLIGHT
TZOFFSETFROM:-0500
TZOFFSETTO:-0400
TZNAME:EDT
DTSTART:20250309T070000
END:DAYLIGHT
BEGIN:STANDARD
TZOFFSETFROM:-0400
TZOFFSETTO:-0500
TZNAME:EST
DTSTART:20251102T060000
END:STANDARD
BEGIN:DAYLIGHT
TZOFFSETFROM:-0500
TZOFFSETTO:-0400
TZNAME:EDT
DTSTART:20260308T070000
END:DAYLIGHT
BEGIN:STANDARD
TZOFFSETFROM:-0400
TZOFFSETTO:-0500
TZNAME:EST
DTSTART:20261101T060000
END:STANDARD
END:VTIMEZONE
BEGIN:VEVENT
DTSTART;VALUE=DATE:20251005
DTEND;VALUE=DATE:20251006
DTSTAMP:20260421T193908
CREATED:20250206T152640Z
LAST-MODIFIED:20250206T152640Z
UID:10011999-1759622400-1759708799@www.first4u.org
SUMMARY:Oktoberfest
DESCRIPTION:
URL:https://www.first4u.org/event/oktoberfest-2/
END:VEVENT
BEGIN:VEVENT
DTSTART;TZID=America/New_York:20251005T083000
DTEND;TZID=America/New_York:20251005T213000
DTSTAMP:20260421T193908
CREATED:20240814T151833Z
LAST-MODIFIED:20240821T133503Z
UID:10010173-1759653000-1759699800@www.first4u.org
SUMMARY:8:30 Divine Service
DESCRIPTION:
URL:https://www.first4u.org/event/divine-service-4/2025-10-05/
END:VEVENT
BEGIN:VEVENT
DTSTART;TZID=America/New_York:20251005T110000
DTEND;TZID=America/New_York:20251005T120000
DTSTAMP:20260421T193908
CREATED:20240814T151918Z
LAST-MODIFIED:20240821T132948Z
UID:10010432-1759662000-1759665600@www.first4u.org
SUMMARY:11:00 Divine Service
DESCRIPTION:
URL:https://www.first4u.org/event/divine-service-5/2025-10-05/
END:VEVENT
BEGIN:VEVENT
DTSTART;TZID=America/New_York:20251005T130000
DTEND;TZID=America/New_York:20251005T170000
DTSTAMP:20260421T193908
CREATED:20250908T180716Z
LAST-MODIFIED:20250908T180716Z
UID:10012120-1759669200-1759683600@www.first4u.org
SUMMARY:Octoberfest at Camp
DESCRIPTION:Oktoberfest 2025
URL:https://www.first4u.org/event/octoberfest-at-camp/
LOCATION:Church Camp\, 1621 Lee Pike\, Soddy Daisy\, TN\, 37379
END:VEVENT
END:VCALENDAR